0.500000
0.000000
0.000000
-0.500000
2884279.750000
441462.750000
