0.500000
0.000000
0.000000
-0.500000
2881841.750000
438735.250000
