0.500000
0.000000
0.000000
-0.500000
2873716.250000
441113.250000
