0.500000
0.000000
0.000000
-0.500000
2868647.750000
438305.250000
