0.500000
0.000000
0.000000
-0.500000
2871092.750000
441025.750000
