0.500000
0.000000
0.000000
-0.500000
2865803.750000
440944.250000
