0.500000
0.000000
0.000000
-0.500000
2862485.750000
446103.750000
