0.500000
0.000000
0.000000
-0.500000
2870873.250000
443675.250000
