0.500000
0.000000
0.000000
-0.500000
2870653.750000
446325.250000
