0.500000
0.000000
0.000000
-0.500000
2873309.250000
446379.250000
