0.500000
0.000000
0.000000
-0.500000
2881439.250000
444013.250000
