0.500000
0.000000
0.000000
-0.500000
2886707.750000
444197.250000
