0.500000
0.000000
0.000000
-0.500000
2875727.250000
451759.250000
