0.500000
0.000000
0.000000
-0.500000
2862309.750000
451397.250000
