0.500000
0.000000
0.000000
-0.500000
2862397.250000
448751.250000
