0.500000
0.000000
0.000000
-0.500000
2872889.750000
456958.750000
