0.500000
0.000000
0.000000
-0.500000
2872984.750000
454320.250000
