0.500000
0.000000
0.000000
-0.500000
2883553.250000
454652.250000
