0.500000
0.000000
0.000000
-0.500000
2886202.250000
454762.250000
