0.500000
0.000000
0.000000
-0.500000
2891385.250000
457686.750000
