0.500000
0.000000
0.000000
-0.500000
2886006.250000
460042.750000
