0.500000
0.000000
0.000000
-0.500000
2867384.250000
462091.750000
