0.500000
0.000000
0.000000
-0.500000
2870140.750000
459535.250000
