0.500000
0.000000
0.000000
-0.500000
2861823.250000
461952.750000
