0.500000
0.000000
0.000000
-0.500000
2861572.750000
467169.250000
