0.500000
0.000000
0.000000
-0.500000
2864530.750000
467131.750000
