0.500000
0.000000
0.000000
-0.500000
2877717.750000
467631.750000
