0.500000
0.000000
0.000000
-0.500000
2880332.750000
467736.750000
