0.500000
0.000000
0.000000
-0.500000
2921016.250000
440835.750000
