0.500000
0.000000
0.000000
-0.500000
2907714.250000
442709.750000
