0.500000
0.000000
0.000000
-0.500000
2899770.250000
442326.250000
