0.500000
0.000000
0.000000
-0.500000
2904900.250000
445250.250000
