0.500000
0.000000
0.000000
-0.500000
2907560.750000
445384.750000
