0.500000
0.000000
0.000000
-0.500000
2920737.250000
446095.250000
