0.500000
0.000000
0.000000
-0.500000
2917744.250000
453871.750000
