0.500000
0.000000
0.000000
-0.500000
2907139.750000
453382.750000
