0.500000
0.000000
0.000000
-0.500000
2894231.250000
452548.750000
