0.500000
0.000000
0.000000
-0.500000
2896974.250000
450026.750000
