0.500000
0.000000
0.000000
-0.500000
2904358.250000
455883.250000
