0.500000
0.000000
0.000000
-0.500000
2907007.750000
456008.750000
