0.500000
0.000000
0.000000
-0.500000
2920281.750000
456633.250000
