0.500000
0.000000
0.000000
-0.500000
2922949.250000
456763.250000
