0.500000
0.000000
0.000000
-0.500000
2914651.750000
464251.250000
