0.500000
0.000000
0.000000
-0.500000
2917391.250000
461759.750000
