0.500000
0.000000
0.000000
-0.500000
2909433.250000
461378.250000
