0.500000
0.000000
0.000000
-0.500000
2901371.250000
463612.250000
