0.500000
0.000000
0.000000
-0.500000
2896557.750000
460475.250000
