0.500000
0.000000
0.000000
-0.500000
2893609.250000
468293.250000
