0.500000
0.000000
0.000000
-0.500000
2893716.250000
465664.750000
