0.500000
0.000000
0.000000
-0.500000
2898723.750000
465872.250000
